BEGIN:VCALENDAR
VERSION:2.0
PRODID:-//Véronique Sanson - ECPv6.15.17.1//NONSGML v1.0//EN
CALSCALE:GREGORIAN
METHOD:PUBLISH
X-WR-CALNAME:Véronique Sanson
X-ORIGINAL-URL:http://www.veronique-sanson.net
X-WR-CALDESC:Évènements pour Véronique Sanson
REFRESH-INTERVAL;VALUE=DURATION:PT1H
X-Robots-Tag:noindex
X-PUBLISHED-TTL:PT1H
BEGIN:VTIMEZONE
TZID:Europe/Paris
BEGIN:DAYLIGHT
TZOFFSETFROM:+0100
TZOFFSETTO:+0200
TZNAME:CEST
DTSTART:20150329T010000
END:DAYLIGHT
BEGIN:STANDARD
TZOFFSETFROM:+0200
TZOFFSETTO:+0100
TZNAME:CET
DTSTART:20151025T010000
END:STANDARD
BEGIN:DAYLIGHT
TZOFFSETFROM:+0100
TZOFFSETTO:+0200
TZNAME:CEST
DTSTART:20160327T010000
END:DAYLIGHT
BEGIN:STANDARD
TZOFFSETFROM:+0200
TZOFFSETTO:+0100
TZNAME:CET
DTSTART:20161030T010000
END:STANDARD
BEGIN:DAYLIGHT
TZOFFSETFROM:+0100
TZOFFSETTO:+0200
TZNAME:CEST
DTSTART:20170326T010000
END:DAYLIGHT
BEGIN:STANDARD
TZOFFSETFROM:+0200
TZOFFSETTO:+0100
TZNAME:CET
DTSTART:20171029T010000
END:STANDARD
END:VTIMEZONE
BEGIN:VEVENT
DTSTART;TZID=Europe/Paris:20161104T205000
DTEND;TZID=Europe/Paris:20161104T235000
DTSTAMP:20260421T172445
CREATED:20161012T194143Z
LAST-MODIFIED:20161012T194143Z
UID:4128-1478292600-1478303400@www.veronique-sanson.net
SUMMARY:Concert sur C STAR
DESCRIPTION:Diffusion sur C STAR du concert Leurs voix pour l’espoir\, enregistré à l’Olympia le 21 septembre 2016 dans lequel Véronique a interprété 3 titres\, dont Drôle de vie en duo avec Patrick Bruel. Également au programme : Kids United\, Slimane\, Amir\, Jeff Panacloc\, Alain Chamfort\, Patricia Kaas et Patrick Fiori.
URL:http://www.veronique-sanson.net/event/concert-c-star/
END:VEVENT
END:VCALENDAR