BEGIN:VCALENDAR
VERSION:2.0
PRODID:-//Véronique Sanson - ECPv6.15.17.1//NONSGML v1.0//EN
CALSCALE:GREGORIAN
METHOD:PUBLISH
X-WR-CALNAME:Véronique Sanson
X-ORIGINAL-URL:http://www.veronique-sanson.net
X-WR-CALDESC:Évènements pour Véronique Sanson
REFRESH-INTERVAL;VALUE=DURATION:PT1H
X-Robots-Tag:noindex
X-PUBLISHED-TTL:PT1H
BEGIN:VTIMEZONE
TZID:Europe/Paris
BEGIN:DAYLIGHT
TZOFFSETFROM:+0100
TZOFFSETTO:+0200
TZNAME:CEST
DTSTART:20150329T010000
END:DAYLIGHT
BEGIN:STANDARD
TZOFFSETFROM:+0200
TZOFFSETTO:+0100
TZNAME:CET
DTSTART:20151025T010000
END:STANDARD
BEGIN:DAYLIGHT
TZOFFSETFROM:+0100
TZOFFSETTO:+0200
TZNAME:CEST
DTSTART:20160327T010000
END:DAYLIGHT
BEGIN:STANDARD
TZOFFSETFROM:+0200
TZOFFSETTO:+0100
TZNAME:CET
DTSTART:20161030T010000
END:STANDARD
BEGIN:DAYLIGHT
TZOFFSETFROM:+0100
TZOFFSETTO:+0200
TZNAME:CEST
DTSTART:20170326T010000
END:DAYLIGHT
BEGIN:STANDARD
TZOFFSETFROM:+0200
TZOFFSETTO:+0100
TZNAME:CET
DTSTART:20171029T010000
END:STANDARD
END:VTIMEZONE
BEGIN:VEVENT
DTSTART;TZID=Europe/Paris:20161101T205500
DTEND;TZID=Europe/Paris:20161101T235500
DTSTAMP:20260421T185757
CREATED:20161022T090942Z
LAST-MODIFIED:20161022T091032Z
UID:4189-1478033700-1478044500@www.veronique-sanson.net
SUMMARY:“DiCaire Show”
DESCRIPTION:Sur France 2 le 1er novembre\, l’imitatrice et chanteuse Véronic DiCaire reçoit Véronique Sanson\, Michael Bublé\, Patricia Kaas\, Vincent Niclo\, Alain Chamfort\, Amir\, Hélène Ségara\, Chantal Ladesou\, Nawell Madani\, Olivier de Benoist\, Angunn\, Marc-Antoine Le Bret.
URL:http://www.veronique-sanson.net/event/dicaire-show/
END:VEVENT
END:VCALENDAR