BEGIN:VCALENDAR
VERSION:2.0
PRODID:-//Véronique Sanson - ECPv6.15.17.1//NONSGML v1.0//EN
CALSCALE:GREGORIAN
METHOD:PUBLISH
X-WR-CALNAME:Véronique Sanson
X-ORIGINAL-URL:http://www.veronique-sanson.net
X-WR-CALDESC:Évènements pour Véronique Sanson
REFRESH-INTERVAL;VALUE=DURATION:PT1H
X-Robots-Tag:noindex
X-PUBLISHED-TTL:PT1H
BEGIN:VTIMEZONE
TZID:Europe/Paris
BEGIN:DAYLIGHT
TZOFFSETFROM:+0100
TZOFFSETTO:+0200
TZNAME:CEST
DTSTART:20180325T010000
END:DAYLIGHT
BEGIN:STANDARD
TZOFFSETFROM:+0200
TZOFFSETTO:+0100
TZNAME:CET
DTSTART:20181028T010000
END:STANDARD
BEGIN:DAYLIGHT
TZOFFSETFROM:+0100
TZOFFSETTO:+0200
TZNAME:CEST
DTSTART:20190331T010000
END:DAYLIGHT
BEGIN:STANDARD
TZOFFSETFROM:+0200
TZOFFSETTO:+0100
TZNAME:CET
DTSTART:20191027T010000
END:STANDARD
BEGIN:DAYLIGHT
TZOFFSETFROM:+0100
TZOFFSETTO:+0200
TZNAME:CEST
DTSTART:20200329T010000
END:DAYLIGHT
BEGIN:STANDARD
TZOFFSETFROM:+0200
TZOFFSETTO:+0100
TZNAME:CET
DTSTART:20201025T010000
END:STANDARD
END:VTIMEZONE
BEGIN:VEVENT
DTSTART;TZID=Europe/Paris:20190403T203000
DTEND;TZID=Europe/Paris:20190403T233000
DTSTAMP:20260419T222130
CREATED:20181217T165945Z
LAST-MODIFIED:20181217T165945Z
UID:5419-1554323400-1554334200@www.veronique-sanson.net
SUMMARY:En concert à Tours
DESCRIPTION:PALAIS DES CONGRES DE TOURS\n26\, Bd Heurteloup\n37000 TOURS
URL:http://www.veronique-sanson.net/event/en-concert-a-tours/
ATTACH;FMTTYPE=image/jpeg:http://www.veronique-sanson.net/wp-content/uploads/2018/12/GCP_Tournée-VS.jpg
END:VEVENT
END:VCALENDAR