BEGIN:VCALENDAR
VERSION:2.0
PRODID:-//Véronique Sanson - ECPv6.15.17.1//NONSGML v1.0//EN
CALSCALE:GREGORIAN
METHOD:PUBLISH
X-WR-CALNAME:Véronique Sanson
X-ORIGINAL-URL:http://www.veronique-sanson.net
X-WR-CALDESC:Évènements pour Véronique Sanson
REFRESH-INTERVAL;VALUE=DURATION:PT1H
X-Robots-Tag:noindex
X-PUBLISHED-TTL:PT1H
BEGIN:VTIMEZONE
TZID:Europe/Paris
BEGIN:DAYLIGHT
TZOFFSETFROM:+0100
TZOFFSETTO:+0200
TZNAME:CEST
DTSTART:20150329T010000
END:DAYLIGHT
BEGIN:STANDARD
TZOFFSETFROM:+0200
TZOFFSETTO:+0100
TZNAME:CET
DTSTART:20151025T010000
END:STANDARD
BEGIN:DAYLIGHT
TZOFFSETFROM:+0100
TZOFFSETTO:+0200
TZNAME:CEST
DTSTART:20160327T010000
END:DAYLIGHT
BEGIN:STANDARD
TZOFFSETFROM:+0200
TZOFFSETTO:+0100
TZNAME:CET
DTSTART:20161030T010000
END:STANDARD
BEGIN:DAYLIGHT
TZOFFSETFROM:+0100
TZOFFSETTO:+0200
TZNAME:CEST
DTSTART:20170326T010000
END:DAYLIGHT
BEGIN:STANDARD
TZOFFSETFROM:+0200
TZOFFSETTO:+0100
TZNAME:CET
DTSTART:20171029T010000
END:STANDARD
END:VTIMEZONE
BEGIN:VEVENT
DTSTART;TZID=Europe/Paris:20160109T203000
DTEND;TZID=Europe/Paris:20160109T203000
DTSTAMP:20260422T022557
CREATED:20151221T100627Z
LAST-MODIFIED:20151222T144447Z
UID:724-1452371400-1452371400@www.veronique-sanson.net
SUMMARY:Olympia : Les années américaines
DESCRIPTION:Dernier concert de la tournée\nAprès de nombreux concerts parisiens (treize concerts à L’Olympia et deux Palais des Sports) et une tournée à succès dans toute la France en 2015\, Véronique Sanson clôturera magistralement sa tournée « Les années américaines » à l’Olympia. \nL’évènement musical de l’année 2015 fut incontestablement le grand retour sur scène de Véronique Sanson\nAvec sa tournée « Les années américaines »\, l’interprète mythique de « Besoin de personne » raconte ses seventies à l’américaine\, loin de son pays et de son public. Ce spectacle reprend notamment les chansons de ses trois albums composés aux Etats-Unis entre 1973 et 1981. Son public retrouve ainsi les mélodies du « Maudit »\, aux paroles envoûtantes\, considéré par beaucoup comme le meilleur opus de sa longue carrière. Puis le second\, « Vancouver »\, un album aux sonorités plus sages … et enfin l’album « Hollywood »\, double disque d’or en France\, où elle reviendra enfin s’installer au début des années 80. \nUn show aux accents rock et seventies magnifiquement conclu …. Le Parisien \nIl y a des frôlements de douleur\, des échos de diablerie et de la sensualité. Et une grande force. Le Monde \nSuperbement éclairée\, entourée de miroirs hublot illustrant son long voyage\, elle se met au piano\, secouant le clavier en même temps que sa chevelure blonde et folle. La Croix \nSanson nous fait remonter le temps\, tendre et généreuse…Un triomphe. Le Figaro Magazine
URL:http://www.veronique-sanson.net/event/les-annees-americaines/
LOCATION:Olympia Bruno Coquatrix\, 28\, boulevard des Capucines\, Paris\, 75009\, France
CATEGORIES:Les années américaines
ATTACH;FMTTYPE=image/jpeg:http://www.veronique-sanson.net/wp-content/uploads/2015/12/olympia_annees_americaines.jpg
END:VEVENT
END:VCALENDAR