BEGIN:VCALENDAR
VERSION:2.0
PRODID:-//Véronique Sanson - ECPv6.15.17.1//NONSGML v1.0//EN
CALSCALE:GREGORIAN
METHOD:PUBLISH
X-WR-CALNAME:Véronique Sanson
X-ORIGINAL-URL:http://www.veronique-sanson.net
X-WR-CALDESC:Évènements pour Véronique Sanson
REFRESH-INTERVAL;VALUE=DURATION:PT1H
X-Robots-Tag:noindex
X-PUBLISHED-TTL:PT1H
BEGIN:VTIMEZONE
TZID:Europe/Paris
BEGIN:DAYLIGHT
TZOFFSETFROM:+0100
TZOFFSETTO:+0200
TZNAME:CEST
DTSTART:20170326T010000
END:DAYLIGHT
BEGIN:STANDARD
TZOFFSETFROM:+0200
TZOFFSETTO:+0100
TZNAME:CET
DTSTART:20171029T010000
END:STANDARD
BEGIN:DAYLIGHT
TZOFFSETFROM:+0100
TZOFFSETTO:+0200
TZNAME:CEST
DTSTART:20180325T010000
END:DAYLIGHT
BEGIN:STANDARD
TZOFFSETFROM:+0200
TZOFFSETTO:+0100
TZNAME:CET
DTSTART:20181028T010000
END:STANDARD
BEGIN:DAYLIGHT
TZOFFSETFROM:+0100
TZOFFSETTO:+0200
TZNAME:CEST
DTSTART:20190331T010000
END:DAYLIGHT
BEGIN:STANDARD
TZOFFSETFROM:+0200
TZOFFSETTO:+0100
TZNAME:CET
DTSTART:20191027T010000
END:STANDARD
END:VTIMEZONE
BEGIN:VEVENT
DTSTART;VALUE=DATE:20180525
DTEND;VALUE=DATE:20180526
DTSTAMP:20260420T132534
CREATED:20180418T200123Z
LAST-MODIFIED:20180418T200123Z
UID:5051-1527206400-1527292799@www.veronique-sanson.net
SUMMARY:Réédition du double LP “Symphonique Sanson”
DESCRIPTION:Sorti en 1990 et épuisé depuis\, le double vinyle “Symphonique Sanson” sera réédité le 25 mai prochain. Avec ce concert\, enregistré au théâtre du Châtelet fin décembre 1989\, Véronique réinventait certains de ses plus beaux titres (“Ma révérence”\, “Amoureuse”\, “Le temps est assassin”\, “Le maudit”…)\, accompagnée par l’orchestre Fysio de Prague.\n► Déjà disponible en précommande sur Amazon
URL:http://www.veronique-sanson.net/event/reedition-du-double-lp-symphonique-sanson/
ATTACH;FMTTYPE=image/jpeg:http://www.veronique-sanson.net/wp-content/uploads/2018/04/symphonieR-web.jpg
END:VEVENT
END:VCALENDAR