BEGIN:VCALENDAR
VERSION:2.0
PRODID:-//Véronique Sanson - ECPv6.15.17.1//NONSGML v1.0//EN
CALSCALE:GREGORIAN
METHOD:PUBLISH
X-WR-CALNAME:Véronique Sanson
X-ORIGINAL-URL:http://www.veronique-sanson.net
X-WR-CALDESC:Évènements pour Véronique Sanson
REFRESH-INTERVAL;VALUE=DURATION:PT1H
X-Robots-Tag:noindex
X-PUBLISHED-TTL:PT1H
BEGIN:VTIMEZONE
TZID:Europe/Paris
BEGIN:DAYLIGHT
TZOFFSETFROM:+0100
TZOFFSETTO:+0200
TZNAME:CEST
DTSTART:20160327T010000
END:DAYLIGHT
BEGIN:STANDARD
TZOFFSETFROM:+0200
TZOFFSETTO:+0100
TZNAME:CET
DTSTART:20161030T010000
END:STANDARD
BEGIN:DAYLIGHT
TZOFFSETFROM:+0100
TZOFFSETTO:+0200
TZNAME:CEST
DTSTART:20170326T010000
END:DAYLIGHT
BEGIN:STANDARD
TZOFFSETFROM:+0200
TZOFFSETTO:+0100
TZNAME:CET
DTSTART:20171029T010000
END:STANDARD
BEGIN:DAYLIGHT
TZOFFSETFROM:+0100
TZOFFSETTO:+0200
TZNAME:CEST
DTSTART:20180325T010000
END:DAYLIGHT
BEGIN:STANDARD
TZOFFSETFROM:+0200
TZOFFSETTO:+0100
TZNAME:CET
DTSTART:20181028T010000
END:STANDARD
END:VTIMEZONE
BEGIN:VEVENT
DTSTART;VALUE=DATE:20171102
DTEND;VALUE=DATE:20171103
DTSTAMP:20260421T003208
CREATED:20170831T155127Z
LAST-MODIFIED:20171012T165900Z
UID:4699-1509580800-1509667199@www.veronique-sanson.net
SUMMARY:"Véronique Sanson\, un sourire pour de vrai"
DESCRIPTION:Biographie exclusive\n\nVÉRONIQUE SANSON\nUn sourire pour de vrai\n\n\nPour la première fois\, Véronique SANSON se confie sans fard et en exclusivité.\n\nChanteuse à la voix unique\, prodigieuse pianiste\, auteurcompositeur-interprète de plus de 200 chansons émouvantes et engagées\, Véronique SANSON a su s’imposer dans le coeur des Français et sur les plus grandes scènes. En 50 ans de carrière\, elle a chanté sa vie et notre époque avec une force et un talent inouïs.\n\nAujourd’hui\, elle parle sans concession de ses passions\, de ses choix de vie et des zones d’ombre où elle a failli sombrer corps et âme. Elle raconte l’anorexie de l’adolescence\, la figure du père adoré et si sévère\, la jeune amoureuse qui quitte Michel Berger pour la star américaine Stephen Stills\, avec lequel elle connaîtra le meilleur comme le pire.\n\nLa force de Véronique SANSON est dans sa capacité à renaître et à se renouveler sans cesse. C’est cette étonnante alliance de volonté et d’extrême sensibilité qui fait d’elle une icône de la chanson.\n\nAvec la complicité de l’auteur\, Laurent Del Bono\, Véronique SANSON se confie pour de vrai\, avec humour\, gaieté et dérision. Son sourire éclatant est celui d’une femme libre. \nInclus un cahier photos retraçant toute sa vie.\n\n\nInterview de l’auteur à lire ici.
URL:http://www.veronique-sanson.net/event/veronique-sanson-un-sourire/
ATTACH;FMTTYPE=image/jpeg:http://www.veronique-sanson.net/wp-content/uploads/2017/08/couv-Del-Bono.jpg
END:VEVENT
END:VCALENDAR