BEGIN:VCALENDAR
VERSION:2.0
PRODID:-//Véronique Sanson - ECPv6.15.17.1//NONSGML v1.0//EN
CALSCALE:GREGORIAN
METHOD:PUBLISH
X-WR-CALNAME:Véronique Sanson
X-ORIGINAL-URL:http://www.veronique-sanson.net
X-WR-CALDESC:Évènements pour Véronique Sanson
REFRESH-INTERVAL;VALUE=DURATION:PT1H
X-Robots-Tag:noindex
X-PUBLISHED-TTL:PT1H
BEGIN:VTIMEZONE
TZID:Europe/Paris
BEGIN:DAYLIGHT
TZOFFSETFROM:+0100
TZOFFSETTO:+0200
TZNAME:CEST
DTSTART:20150329T010000
END:DAYLIGHT
BEGIN:STANDARD
TZOFFSETFROM:+0200
TZOFFSETTO:+0100
TZNAME:CET
DTSTART:20151025T010000
END:STANDARD
BEGIN:DAYLIGHT
TZOFFSETFROM:+0100
TZOFFSETTO:+0200
TZNAME:CEST
DTSTART:20160327T010000
END:DAYLIGHT
BEGIN:STANDARD
TZOFFSETFROM:+0200
TZOFFSETTO:+0100
TZNAME:CET
DTSTART:20161030T010000
END:STANDARD
BEGIN:DAYLIGHT
TZOFFSETFROM:+0100
TZOFFSETTO:+0200
TZNAME:CEST
DTSTART:20170326T010000
END:DAYLIGHT
BEGIN:STANDARD
TZOFFSETFROM:+0200
TZOFFSETTO:+0100
TZNAME:CET
DTSTART:20171029T010000
END:STANDARD
END:VTIMEZONE
BEGIN:VEVENT
DTSTART;TZID=Europe/Paris:20161106T180000
DTEND;TZID=Europe/Paris:20161106T180000
DTSTAMP:20260421T121922
CREATED:20161101T102724Z
LAST-MODIFIED:20161101T105719Z
UID:4249-1478455200-1478455200@www.veronique-sanson.net
SUMMARY:“Vivement dimanche” (France 2)
DESCRIPTION:Véronique sera sur le plateau de Vivement dimanche le 6 novembre sur France 2 à 18 h
URL:http://www.veronique-sanson.net/event/vivement-dimanche/
END:VEVENT
END:VCALENDAR