BEGIN:VCALENDAR
VERSION:2.0
PRODID:-//Véronique Sanson - ECPv6.15.17.1//NONSGML v1.0//EN
CALSCALE:GREGORIAN
METHOD:PUBLISH
X-ORIGINAL-URL:http://www.veronique-sanson.net
X-WR-CALDESC:Évènements pour Véronique Sanson
REFRESH-INTERVAL;VALUE=DURATION:PT1H
X-Robots-Tag:noindex
X-PUBLISHED-TTL:PT1H
BEGIN:VTIMEZONE
TZID:Europe/Paris
BEGIN:DAYLIGHT
TZOFFSETFROM:+0100
TZOFFSETTO:+0200
TZNAME:CEST
DTSTART:20160327T010000
END:DAYLIGHT
BEGIN:STANDARD
TZOFFSETFROM:+0200
TZOFFSETTO:+0100
TZNAME:CET
DTSTART:20161030T010000
END:STANDARD
BEGIN:DAYLIGHT
TZOFFSETFROM:+0100
TZOFFSETTO:+0200
TZNAME:CEST
DTSTART:20170326T010000
END:DAYLIGHT
BEGIN:STANDARD
TZOFFSETFROM:+0200
TZOFFSETTO:+0100
TZNAME:CET
DTSTART:20171029T010000
END:STANDARD
BEGIN:DAYLIGHT
TZOFFSETFROM:+0100
TZOFFSETTO:+0200
TZNAME:CEST
DTSTART:20180325T010000
END:DAYLIGHT
BEGIN:STANDARD
TZOFFSETFROM:+0200
TZOFFSETTO:+0100
TZNAME:CET
DTSTART:20181028T010000
END:STANDARD
END:VTIMEZONE
BEGIN:VEVENT
DTSTART;TZID=Europe/Paris:20170506T100000
DTEND;TZID=Europe/Paris:20170506T110000
DTSTAMP:20260421T075650
CREATED:20170504T164234Z
LAST-MODIFIED:20170504T164234Z
UID:4568-1494064800-1494068400@www.veronique-sanson.net
SUMMARY:“Thé ou café”
DESCRIPTION:
URL:http://www.veronique-sanson.net/event/the-ou-cafe/
END:VEVENT
BEGIN:VEVENT
DTSTART;TZID=Europe/Paris:20170515T185000
DTEND;TZID=Europe/Paris:20170515T190000
DTSTAMP:20260421T075650
CREATED:20170512T191827Z
LAST-MODIFIED:20170512T191857Z
UID:4582-1494874200-1494874800@www.veronique-sanson.net
SUMMARY:“L’Invité” (TV5 Monde)
DESCRIPTION:
URL:http://www.veronique-sanson.net/event/linvite-tv5-monde/
END:VEVENT
BEGIN:VEVENT
DTSTART;TZID=Europe/Paris:20170526T233000
DTEND;TZID=Europe/Paris:20170526T233000
DTSTAMP:20260421T075650
CREATED:20170422T091256Z
LAST-MODIFIED:20170422T091256Z
UID:4551-1495841400-1495841400@www.veronique-sanson.net
SUMMARY:Taratata
DESCRIPTION:Duo avec Julien Doré
URL:http://www.veronique-sanson.net/event/taratata/
END:VEVENT
END:VCALENDAR