BEGIN:VCALENDAR
VERSION:2.0
PRODID:-//Véronique Sanson - ECPv6.15.17.1//NONSGML v1.0//EN
CALSCALE:GREGORIAN
METHOD:PUBLISH
X-ORIGINAL-URL:http://www.veronique-sanson.net
X-WR-CALDESC:Évènements pour Véronique Sanson
REFRESH-INTERVAL;VALUE=DURATION:PT1H
X-Robots-Tag:noindex
X-PUBLISHED-TTL:PT1H
BEGIN:VTIMEZONE
TZID:Europe/Paris
BEGIN:DAYLIGHT
TZOFFSETFROM:+0100
TZOFFSETTO:+0200
TZNAME:CEST
DTSTART:20160327T010000
END:DAYLIGHT
BEGIN:STANDARD
TZOFFSETFROM:+0200
TZOFFSETTO:+0100
TZNAME:CET
DTSTART:20161030T010000
END:STANDARD
BEGIN:DAYLIGHT
TZOFFSETFROM:+0100
TZOFFSETTO:+0200
TZNAME:CEST
DTSTART:20170326T010000
END:DAYLIGHT
BEGIN:STANDARD
TZOFFSETFROM:+0200
TZOFFSETTO:+0100
TZNAME:CET
DTSTART:20171029T010000
END:STANDARD
BEGIN:DAYLIGHT
TZOFFSETFROM:+0100
TZOFFSETTO:+0200
TZNAME:CEST
DTSTART:20180325T010000
END:DAYLIGHT
BEGIN:STANDARD
TZOFFSETFROM:+0200
TZOFFSETTO:+0100
TZNAME:CET
DTSTART:20181028T010000
END:STANDARD
END:VTIMEZONE
BEGIN:VEVENT
DTSTART;TZID=Europe/Paris:20170909T211500
DTEND;TZID=Europe/Paris:20170909T233000
DTSTAMP:20260421T020050
CREATED:20170602T091436Z
LAST-MODIFIED:20170619T133751Z
UID:4627-1504991700-1504999800@www.veronique-sanson.net
SUMMARY:En concert ☆ Le Noirmont – Festival Le Chant du Gros
DESCRIPTION:
URL:http://www.veronique-sanson.net/event/concert-%e2%98%86-noirmont-festival-chant-gros/
ATTACH;FMTTYPE=image/jpeg:http://www.veronique-sanson.net/wp-content/uploads/2017/06/Affiche2017-1.jpg
END:VEVENT
BEGIN:VEVENT
DTSTART;TZID=Europe/Paris:20170915T190000
DTEND;TZID=Europe/Paris:20170915T190000
DTSTAMP:20260421T020050
CREATED:20170422T091026Z
LAST-MODIFIED:20170422T091026Z
UID:4549-1505502000-1505502000@www.veronique-sanson.net
SUMMARY:En concert ☆ Charnay-en-Beaujolais – Vendanges musicales
DESCRIPTION:
URL:http://www.veronique-sanson.net/event/concert-%e2%98%86-charnay-beaujolais-vendanges-musicales/
ATTACH;FMTTYPE=image/jpeg:http://www.veronique-sanson.net/wp-content/uploads/2016/10/Affiche2017-1.jpg
END:VEVENT
BEGIN:VEVENT
DTSTART;TZID=Europe/Paris:20170916T203000
DTEND;TZID=Europe/Paris:20170916T230000
DTSTAMP:20260421T020050
CREATED:20170725T132121Z
LAST-MODIFIED:20170725T132121Z
UID:4682-1505593800-1505602800@www.veronique-sanson.net
SUMMARY:En concert ☆ Blois (concert gratuit)
DESCRIPTION:Réservation obligatoire.\n \nModalités de réservation\nToute réservation devra être validée par le retrait des billets du 21 août au 14 septembre : \n\nDu lundi au vendredi\, à l’Hôtel d’agglomération\, 1 rue Honoré de Balzac à Blois\, de 8h à 17h30 (fermeture à 17h le mercredi)\nSamedi 26 août\, à la bibliothèque Abbé-Grégoire\, 4/6 place Jean-Jaurès à Blois\, de 10h à 13h et de 14h à 17h\nSamedi 2 septembre\, lors des Portes ouvertes du Jeu de Paume\, de 10h à 20h30\nSamedi 9 septembre\, à la bibliothèque Abbé-Grégoire\, 4/6 place Jean-Jaurès à Blois\, de 10h à 18h\n\nTout spectateur devra être muni d’un billet pour accéder au spectacle. Tout billet perdu ne sera pas réimprimé. \nhttp://www.agglopolys.fr/Actualite/4422/1386-actualites.htm#contenu
URL:http://www.veronique-sanson.net/event/concert-%e2%98%86-blois-concert-gratuit/
ATTACH;FMTTYPE=image/jpeg:http://www.veronique-sanson.net/wp-content/uploads/2017/06/Affiche2017-1.jpg
END:VEVENT
END:VCALENDAR