BEGIN:VCALENDAR
VERSION:2.0
PRODID:-//Véronique Sanson - ECPv6.15.17.1//NONSGML v1.0//EN
CALSCALE:GREGORIAN
METHOD:PUBLISH
X-ORIGINAL-URL:http://www.veronique-sanson.net
X-WR-CALDESC:Évènements pour Véronique Sanson
REFRESH-INTERVAL;VALUE=DURATION:PT1H
X-Robots-Tag:noindex
X-PUBLISHED-TTL:PT1H
BEGIN:VTIMEZONE
TZID:Europe/Paris
BEGIN:DAYLIGHT
TZOFFSETFROM:+0100
TZOFFSETTO:+0200
TZNAME:CEST
DTSTART:20170326T010000
END:DAYLIGHT
BEGIN:STANDARD
TZOFFSETFROM:+0200
TZOFFSETTO:+0100
TZNAME:CET
DTSTART:20171029T010000
END:STANDARD
BEGIN:DAYLIGHT
TZOFFSETFROM:+0100
TZOFFSETTO:+0200
TZNAME:CEST
DTSTART:20180325T010000
END:DAYLIGHT
BEGIN:STANDARD
TZOFFSETFROM:+0200
TZOFFSETTO:+0100
TZNAME:CET
DTSTART:20181028T010000
END:STANDARD
BEGIN:DAYLIGHT
TZOFFSETFROM:+0100
TZOFFSETTO:+0200
TZNAME:CEST
DTSTART:20190331T010000
END:DAYLIGHT
BEGIN:STANDARD
TZOFFSETFROM:+0200
TZOFFSETTO:+0100
TZNAME:CET
DTSTART:20191027T010000
END:STANDARD
END:VTIMEZONE
BEGIN:VEVENT
DTSTART;TZID=Europe/Paris:20180202T203000
DTEND;TZID=Europe/Paris:20180202T233000
DTSTAMP:20260420T182506
CREATED:20171013T091702Z
LAST-MODIFIED:20171013T091702Z
UID:4785-1517603400-1517614200@www.veronique-sanson.net
SUMMARY:En concert à Amiens
DESCRIPTION:ZENITH AMIENS METROPOLE\nAvenue de l’hippodrome\n80000 AMIENS
URL:http://www.veronique-sanson.net/event/concert-a-amiens/
ATTACH;FMTTYPE=image/jpeg:http://www.veronique-sanson.net/wp-content/uploads/2017/10/Affiche2017-1.jpg
END:VEVENT
BEGIN:VEVENT
DTSTART;TZID=Europe/Paris:20180203T203000
DTEND;TZID=Europe/Paris:20180203T233000
DTSTAMP:20260420T182506
CREATED:20171013T091833Z
LAST-MODIFIED:20171013T091833Z
UID:4787-1517689800-1517700600@www.veronique-sanson.net
SUMMARY:En concert à Rouen
DESCRIPTION:ZENITH\n44 avenue des Canadiens\n76120 ROUEN
URL:http://www.veronique-sanson.net/event/concert-a-rouen/
ATTACH;FMTTYPE=image/jpeg:http://www.veronique-sanson.net/wp-content/uploads/2017/10/Affiche2017-1.jpg
END:VEVENT
BEGIN:VEVENT
DTSTART;TZID=Europe/Paris:20180204T183000
DTEND;TZID=Europe/Paris:20180204T220000
DTSTAMP:20260420T182506
CREATED:20171013T092028Z
LAST-MODIFIED:20171013T092028Z
UID:4789-1517769000-1517781600@www.veronique-sanson.net
SUMMARY:En concert à Caen
DESCRIPTION:ZENITH\n6 rue Joseph Philippon\n14000 – CAEN
URL:http://www.veronique-sanson.net/event/concert-a-caen/
ATTACH;FMTTYPE=image/jpeg:http://www.veronique-sanson.net/wp-content/uploads/2017/10/Affiche2017-1.jpg
END:VEVENT
BEGIN:VEVENT
DTSTART;TZID=Europe/Paris:20180207T203000
DTEND;TZID=Europe/Paris:20180207T233000
DTSTAMP:20260420T182506
CREATED:20171013T092230Z
LAST-MODIFIED:20171013T092230Z
UID:4791-1518035400-1518046200@www.veronique-sanson.net
SUMMARY:En concert à Mâcon
DESCRIPTION:LE SPOT – MACON\nAvenue Pierre Bérégovoy \n71000 MACON\n  \n 
URL:http://www.veronique-sanson.net/event/concert-a-macon/
ATTACH;FMTTYPE=image/jpeg:http://www.veronique-sanson.net/wp-content/uploads/2017/10/Affiche2017-1.jpg
END:VEVENT
BEGIN:VEVENT
DTSTART;TZID=Europe/Paris:20180208T203000
DTEND;TZID=Europe/Paris:20180208T233000
DTSTAMP:20260420T182506
CREATED:20171013T092424Z
LAST-MODIFIED:20171013T092424Z
UID:4793-1518121800-1518132600@www.veronique-sanson.net
SUMMARY:En concert à Saint-Étienne
DESCRIPTION:ZENITH – SAINT ETIENNE\n  \nrue Scheurer Kestner  \n42000 SAINT ETIENNE \n 
URL:http://www.veronique-sanson.net/event/concert-a-saint-etienne/
ATTACH;FMTTYPE=image/jpeg:http://www.veronique-sanson.net/wp-content/uploads/2017/10/Affiche2017-1.jpg
END:VEVENT
BEGIN:VEVENT
DTSTART;TZID=Europe/Paris:20180209T203000
DTEND;TZID=Europe/Paris:20180209T233000
DTSTAMP:20260420T182506
CREATED:20171013T092600Z
LAST-MODIFIED:20171013T092600Z
UID:4795-1518208200-1518219000@www.veronique-sanson.net
SUMMARY:En concert à Clermont-Ferrand
DESCRIPTION:Zénith d’Auvergne \n63800 Cournon
URL:http://www.veronique-sanson.net/event/concert-a-clermont-ferrand/
ATTACH;FMTTYPE=image/jpeg:http://www.veronique-sanson.net/wp-content/uploads/2017/10/Affiche2017-1.jpg
END:VEVENT
BEGIN:VEVENT
DTSTART;TZID=Europe/Paris:20180214T203000
DTEND;TZID=Europe/Paris:20180214T233000
DTSTAMP:20260420T182506
CREATED:20171013T092807Z
LAST-MODIFIED:20180214T123226Z
UID:4797-1518640200-1518651000@www.veronique-sanson.net
SUMMARY:En concert à Châteauneuf-sur-Isère
DESCRIPTION:Palais des Congrès
URL:http://www.veronique-sanson.net/event/concert-a-chateauneuf-isere/
LOCATION:Palais des Congrès Sud Rhône-Alpes\, Lac d'Aiguille\, Quartier des Communaux\, 430 route du Lac\, Châteauneuf-sur-Isère\, 26300\, France
ATTACH;FMTTYPE=image/jpeg:http://www.veronique-sanson.net/wp-content/uploads/2017/10/Affiche2017-1.jpg
END:VEVENT
BEGIN:VEVENT
DTSTART;TZID=Europe/Paris:20180215T203000
DTEND;TZID=Europe/Paris:20180215T233000
DTSTAMP:20260420T182506
CREATED:20171013T093051Z
LAST-MODIFIED:20171013T093051Z
UID:4799-1518726600-1518737400@www.veronique-sanson.net
SUMMARY:En concert à Carpentras
DESCRIPTION:ESPACE AUZON  –  CARPENTRAS
URL:http://www.veronique-sanson.net/event/concert-a-carpentras/
ATTACH;FMTTYPE=image/jpeg:http://www.veronique-sanson.net/wp-content/uploads/2017/10/Affiche2017-1.jpg
END:VEVENT
BEGIN:VEVENT
DTSTART;TZID=Europe/Paris:20180216T203000
DTEND;TZID=Europe/Paris:20180216T233000
DTSTAMP:20260420T182506
CREATED:20171013T093224Z
LAST-MODIFIED:20171013T093224Z
UID:4801-1518813000-1518823800@www.veronique-sanson.net
SUMMARY:En concert à Gap
DESCRIPTION:Le Quattro
URL:http://www.veronique-sanson.net/event/concert-a-gap/
ATTACH;FMTTYPE=image/jpeg:http://www.veronique-sanson.net/wp-content/uploads/2017/10/Affiche2017-1.jpg
END:VEVENT
BEGIN:VEVENT
DTSTART;TZID=Europe/Paris:20180220T203000
DTEND;TZID=Europe/Paris:20180220T233000
DTSTAMP:20260420T182506
CREATED:20171013T094058Z
LAST-MODIFIED:20171013T094058Z
UID:4803-1519158600-1519169400@www.veronique-sanson.net
SUMMARY:En concert à Strasbourg
DESCRIPTION:PALAIS DES CONGRES-SALLE ERASME\nplace de Bordeaux – Wacken \n67000 STRASBOURG\n  \n 
URL:http://www.veronique-sanson.net/event/concert-a-strasbourg/
ATTACH;FMTTYPE=image/jpeg:http://www.veronique-sanson.net/wp-content/uploads/2017/10/Affiche2017-1.jpg
END:VEVENT
BEGIN:VEVENT
DTSTART;TZID=Europe/Paris:20180221T203000
DTEND;TZID=Europe/Paris:20180221T233000
DTSTAMP:20260420T182506
CREATED:20171013T094247Z
LAST-MODIFIED:20171013T094247Z
UID:4805-1519245000-1519255800@www.veronique-sanson.net
SUMMARY:En concert à Metz
DESCRIPTION:LES ARENES\n5 AVENUE LOUIS LE DEBONNAIRE\n57000 METZ
URL:http://www.veronique-sanson.net/event/concert-a-metz/
ATTACH;FMTTYPE=image/jpeg:http://www.veronique-sanson.net/wp-content/uploads/2017/10/Affiche2017-1.jpg
END:VEVENT
END:VCALENDAR