BEGIN:VCALENDAR
VERSION:2.0
PRODID:-//Véronique Sanson - ECPv6.15.17.1//NONSGML v1.0//EN
CALSCALE:GREGORIAN
METHOD:PUBLISH
X-ORIGINAL-URL:http://www.veronique-sanson.net
X-WR-CALDESC:Évènements pour Véronique Sanson
REFRESH-INTERVAL;VALUE=DURATION:PT1H
X-Robots-Tag:noindex
X-PUBLISHED-TTL:PT1H
BEGIN:VTIMEZONE
TZID:Europe/Paris
BEGIN:DAYLIGHT
TZOFFSETFROM:+0100
TZOFFSETTO:+0200
TZNAME:CEST
DTSTART:20170326T010000
END:DAYLIGHT
BEGIN:STANDARD
TZOFFSETFROM:+0200
TZOFFSETTO:+0100
TZNAME:CET
DTSTART:20171029T010000
END:STANDARD
BEGIN:DAYLIGHT
TZOFFSETFROM:+0100
TZOFFSETTO:+0200
TZNAME:CEST
DTSTART:20180325T010000
END:DAYLIGHT
BEGIN:STANDARD
TZOFFSETFROM:+0200
TZOFFSETTO:+0100
TZNAME:CET
DTSTART:20181028T010000
END:STANDARD
BEGIN:DAYLIGHT
TZOFFSETFROM:+0100
TZOFFSETTO:+0200
TZNAME:CEST
DTSTART:20190331T010000
END:DAYLIGHT
BEGIN:STANDARD
TZOFFSETFROM:+0200
TZOFFSETTO:+0100
TZNAME:CET
DTSTART:20191027T010000
END:STANDARD
END:VTIMEZONE
BEGIN:VEVENT
DTSTART;TZID=Europe/Paris:20180705T200000
DTEND;TZID=Europe/Paris:20180705T230000
DTSTAMP:20260420T101456
CREATED:20180218T084138Z
LAST-MODIFIED:20180218T094916Z
UID:4947-1530820800-1530831600@www.veronique-sanson.net
SUMMARY:Montélimar Agglo Festival
DESCRIPTION:À Montelimar\nStade Tropenas\navec  Brigitte
URL:http://www.veronique-sanson.net/event/concert-montelimar-agglo-festival/
ATTACH;FMTTYPE=image/jpeg:http://www.veronique-sanson.net/wp-content/uploads/2017/10/Affiche2017-1.jpg
END:VEVENT
BEGIN:VEVENT
DTSTART;TZID=Europe/Paris:20180711T190000
DTEND;TZID=Europe/Paris:20180711T233000
DTSTAMP:20260420T101456
CREATED:20180218T085027Z
LAST-MODIFIED:20180608T184238Z
UID:4949-1531335600-1531351800@www.veronique-sanson.net
SUMMARY:Francofolies de La Rochelle (+ invités)
DESCRIPTION:Jour de Fête à Véonique Sanson\navec\nAlain Souchon\, Vianney\, Tryo\, Jeanne Cherhal\, Chris Stills et Stephen Stills\n\nScène Jean-Louis Foulquier\nEsplanade Saint-Jean d’Acre 17000\nLa Rochelle\, France
URL:http://www.veronique-sanson.net/event/aux-francofolies-de-rochelle-invites/
ATTACH;FMTTYPE=image/jpeg:http://www.veronique-sanson.net/wp-content/uploads/2018/02/Francos18_Visuel-Véronique-Sanson_940x788px_V2_H1.jpg
END:VEVENT
BEGIN:VEVENT
DTSTART;TZID=Europe/Paris:20180720T213000
DTEND;TZID=Europe/Paris:20180720T230000
DTSTAMP:20260420T101456
CREATED:20180218T085504Z
LAST-MODIFIED:20180719T191039Z
UID:4952-1532122200-1532127600@www.veronique-sanson.net
SUMMARY:Brive Festival
DESCRIPTION:21 h 30\nThéatre de Verdure\n19100 BRIVE LA GAILLARDE
URL:http://www.veronique-sanson.net/event/au-brive-festival/
ATTACH;FMTTYPE=image/jpeg:http://www.veronique-sanson.net/wp-content/uploads/2018/02/VisuelBriveFestival_300.jpg
END:VEVENT
BEGIN:VEVENT
DTSTART;TZID=Europe/Paris:20180722T201000
DTEND;TZID=Europe/Paris:20180722T212000
DTSTAMP:20260420T101456
CREATED:20180218T093747Z
LAST-MODIFIED:20180527T193045Z
UID:4955-1532290200-1532294400@www.veronique-sanson.net
SUMMARY:Festival des Vieilles Charrues
DESCRIPTION:
URL:http://www.veronique-sanson.net/event/festival-vieilles-charrues/
ATTACH;FMTTYPE=image/jpeg:http://www.veronique-sanson.net/wp-content/uploads/2018/02/Decouvrez-la-programmation-officielle-des-Vieilles-Charrues-2018.jpg
END:VEVENT
BEGIN:VEVENT
DTSTART;TZID=Europe/Paris:20180727T203000
DTEND;TZID=Europe/Paris:20180727T233000
DTSTAMP:20260420T101456
CREATED:20180218T094333Z
LAST-MODIFIED:20180218T094333Z
UID:4958-1532723400-1532734200@www.veronique-sanson.net
SUMMARY:Les Nuits de la Guitare (Patrimonio)
DESCRIPTION:avec Julien Clerc \nOuverture 19 h – Concert : 20 h 30
URL:http://www.veronique-sanson.net/event/nuits-de-guitare-patrimonio/
ATTACH;FMTTYPE=image/jpeg:http://www.veronique-sanson.net/wp-content/uploads/2017/10/Affiche2017-1.jpg
END:VEVENT
END:VCALENDAR