BEGIN:VCALENDAR
VERSION:2.0
PRODID:-//Véronique Sanson - ECPv6.15.17.1//NONSGML v1.0//EN
CALSCALE:GREGORIAN
METHOD:PUBLISH
X-WR-CALNAME:Véronique Sanson
X-ORIGINAL-URL:http://www.veronique-sanson.net
X-WR-CALDESC:Évènements pour Véronique Sanson
REFRESH-INTERVAL;VALUE=DURATION:PT1H
X-Robots-Tag:noindex
X-PUBLISHED-TTL:PT1H
BEGIN:VTIMEZONE
TZID:Europe/Paris
BEGIN:DAYLIGHT
TZOFFSETFROM:+0100
TZOFFSETTO:+0200
TZNAME:CEST
DTSTART:20170326T010000
END:DAYLIGHT
BEGIN:STANDARD
TZOFFSETFROM:+0200
TZOFFSETTO:+0100
TZNAME:CET
DTSTART:20171029T010000
END:STANDARD
BEGIN:DAYLIGHT
TZOFFSETFROM:+0100
TZOFFSETTO:+0200
TZNAME:CEST
DTSTART:20180325T010000
END:DAYLIGHT
BEGIN:STANDARD
TZOFFSETFROM:+0200
TZOFFSETTO:+0100
TZNAME:CET
DTSTART:20181028T010000
END:STANDARD
BEGIN:DAYLIGHT
TZOFFSETFROM:+0100
TZOFFSETTO:+0200
TZNAME:CEST
DTSTART:20190331T010000
END:DAYLIGHT
BEGIN:STANDARD
TZOFFSETFROM:+0200
TZOFFSETTO:+0100
TZNAME:CET
DTSTART:20191027T010000
END:STANDARD
END:VTIMEZONE
BEGIN:VEVENT
DTSTART;VALUE=DATE:20181207
DTEND;VALUE=DATE:20181208
DTSTAMP:20260420T022943
CREATED:20181204T172241Z
LAST-MODIFIED:20181207T120502Z
UID:5401-1544140800-1544227199@www.veronique-sanson.net
SUMMARY:Sortie de 2 remixes par la FFL
DESCRIPTION:SORTIE DE 2 REMIXES PAR LE COLLECTIF DE DJs LA FUNKY FRENCH LEAGUE :\nBernard’s Song (Young Pulse Remix)\nOn m’attend là-bas (Funky French League Remix) \nEnregistrés respectivement en 1974 et 1977 durant ses “Années Américaines”\, les versions originales de On m’attend là-bas et Bernard’s Song occupent une place de choix dans le répertoire de Véronique Sanson. Issus des albums Le Maudit et Hollywood\, ils sont estampillés West Coast – Stephen Stills tenant d’ailleurs la basse sur On m’attend là-bas. \nRéalisés à partir des bandes multi-pistes historiques\, leurs remixes par le collectif de DJs La Funky French League marquent un pont entre le son des nuits parisiennes d’aujourd’hui et le Los Angeles des 70’s.\nCapables d’habiller des pulsations rock avec des touches de funk sexy\, ces experts érudits du dance-floor étaient tout désignés pour prolonger la magie de ces titres mythiques.\nÀ écouter sans modération\, que ce soit en versions longues ou edit !\nRemixes disponibles lsur toutes les plateformes de streaming et de téléchargement légal.\nSortie en format Maxi 33 tours en février.
URL:http://www.veronique-sanson.net/event/sortie-de-2-remixes-par-la-ffl/
ATTACH;FMTTYPE=image/jpeg:http://www.veronique-sanson.net/wp-content/uploads/2018/12/Sanson-Digital-Remixes.jpg
END:VEVENT
BEGIN:VEVENT
DTSTART;TZID=Europe/Paris:20181216T203000
DTEND;TZID=Europe/Paris:20181216T213000
DTSTAMP:20260420T022943
CREATED:20181215T134322Z
LAST-MODIFIED:20181215T134322Z
UID:5413-1544992200-1544995800@www.veronique-sanson.net
SUMMARY:“20h30 Le dimanche”
DESCRIPTION:Interview exclusive par Laurent Delahousse diffusée le 16 décembre sur France 2\nUn extrait est à voir ici.
URL:http://www.veronique-sanson.net/event/20h30-le-dimanche/
ATTACH;FMTTYPE=image/png:http://www.veronique-sanson.net/wp-content/uploads/2018/12/Capture-d’écran-2018-12-15-à-14.40.49.png
END:VEVENT
BEGIN:VEVENT
DTSTART;TZID=Europe/Paris:20181226T210000
DTEND;TZID=Europe/Paris:20181226T230000
DTSTAMP:20260420T022943
CREATED:20181219T083226Z
LAST-MODIFIED:20181219T083226Z
UID:5442-1545858000-1545865200@www.veronique-sanson.net
SUMMARY:Les Francos sur France 3 NoA
DESCRIPTION:Le concert des Francofolies de La Rochelle sera diffusé sur France 3 Nouvelle Aquitaine. Première diffusion : mercredi 26 décembre à 21H. \nOn y retrouve Véronique sur scène avec Stephen Stills et leur fils Christopher mais aussi Alain Souchon\, Patrick Bruel\, Jeanne Cherhal\, Vianney ou encore Tryo. \nRediffusions : samedi 29 décembre à 16H45 / dimanche 30 décembre à 8H30 / lundi 31 décembre à 16H / mercredi 2 janvier à 8H15 \nRecevoir .3 NoA :\nOrange : 339\nSFR : 455\nFree : 326\nBouygues : 337\nEt en direct sur na.france3.fr
URL:http://www.veronique-sanson.net/event/les-francos-sur-france-3-noa/
ATTACH;FMTTYPE=image/jpeg:http://www.veronique-sanson.net/wp-content/uploads/2018/12/sanson.jpg
END:VEVENT
END:VCALENDAR